BEGIN:VCALENDAR
VERSION:2.0
PRODID:-//ASSOCIATION ARC ELECTRIQUE - ECPv6.15.20//NONSGML v1.0//EN
CALSCALE:GREGORIAN
METHOD:PUBLISH
X-WR-CALNAME:ASSOCIATION ARC ELECTRIQUE
X-ORIGINAL-URL:https://www.association-arc-electrique.org
X-WR-CALDESC:Évènements pour ASSOCIATION ARC ELECTRIQUE
REFRESH-INTERVAL;VALUE=DURATION:PT1H
X-Robots-Tag:noindex
X-PUBLISHED-TTL:PT1H
BEGIN:VTIMEZONE
TZID:Europe/Paris
BEGIN:DAYLIGHT
TZOFFSETFROM:+0100
TZOFFSETTO:+0200
TZNAME:CEST
DTSTART:20230326T010000
END:DAYLIGHT
BEGIN:STANDARD
TZOFFSETFROM:+0200
TZOFFSETTO:+0100
TZNAME:CET
DTSTART:20231029T010000
END:STANDARD
BEGIN:DAYLIGHT
TZOFFSETFROM:+0100
TZOFFSETTO:+0200
TZNAME:CEST
DTSTART:20240331T010000
END:DAYLIGHT
BEGIN:STANDARD
TZOFFSETFROM:+0200
TZOFFSETTO:+0100
TZNAME:CET
DTSTART:20241027T010000
END:STANDARD
BEGIN:DAYLIGHT
TZOFFSETFROM:+0100
TZOFFSETTO:+0200
TZNAME:CEST
DTSTART:20250330T010000
END:DAYLIGHT
BEGIN:STANDARD
TZOFFSETFROM:+0200
TZOFFSETTO:+0100
TZNAME:CET
DTSTART:20251026T010000
END:STANDARD
END:VTIMEZONE
BEGIN:VEVENT
DTSTART;TZID=Europe/Paris:20241006T080000
DTEND;TZID=Europe/Paris:20241010T170000
DTSTAMP:20260422T120317
CREATED:20240927T125515Z
LAST-MODIFIED:20240927T125516Z
UID:2480-1728201600-1728579600@www.association-arc-electrique.org
SUMMARY:32nd ICEC and 69th IEEE Holm Conference on Electrical Contacts
DESCRIPTION:
URL:https://www.association-arc-electrique.org/event/32nd-icec-and-69th-ieee-holm-conference-on-electrical-contacts/
LOCATION:Annapolis\, 126 West St Annapolis\, Annapolis\, Maryland\, United States
CATEGORIES:Conférences
ATTACH;FMTTYPE=image/png:https://www.association-arc-electrique.org/wp-content/uploads/2024/09/32nd_Holm.png
END:VEVENT
END:VCALENDAR