BEGIN:VCALENDAR
VERSION:2.0
PRODID:-//ASSOCIATION ARC ELECTRIQUE - ECPv6.15.20//NONSGML v1.0//EN
CALSCALE:GREGORIAN
METHOD:PUBLISH
X-WR-CALNAME:ASSOCIATION ARC ELECTRIQUE
X-ORIGINAL-URL:https://www.association-arc-electrique.org
X-WR-CALDESC:Évènements pour ASSOCIATION ARC ELECTRIQUE
REFRESH-INTERVAL;VALUE=DURATION:PT1H
X-Robots-Tag:noindex
X-PUBLISHED-TTL:PT1H
BEGIN:VTIMEZONE
TZID:Europe/Paris
BEGIN:DAYLIGHT
TZOFFSETFROM:+0100
TZOFFSETTO:+0200
TZNAME:CEST
DTSTART:20220327T010000
END:DAYLIGHT
BEGIN:STANDARD
TZOFFSETFROM:+0200
TZOFFSETTO:+0100
TZNAME:CET
DTSTART:20221030T010000
END:STANDARD
BEGIN:DAYLIGHT
TZOFFSETFROM:+0100
TZOFFSETTO:+0200
TZNAME:CEST
DTSTART:20230326T010000
END:DAYLIGHT
BEGIN:STANDARD
TZOFFSETFROM:+0200
TZOFFSETTO:+0100
TZNAME:CET
DTSTART:20231029T010000
END:STANDARD
BEGIN:DAYLIGHT
TZOFFSETFROM:+0100
TZOFFSETTO:+0200
TZNAME:CEST
DTSTART:20240331T010000
END:DAYLIGHT
BEGIN:STANDARD
TZOFFSETFROM:+0200
TZOFFSETTO:+0100
TZNAME:CET
DTSTART:20241027T010000
END:STANDARD
END:VTIMEZONE
BEGIN:VEVENT
DTSTART;VALUE=DATE:20230828
DTEND;VALUE=DATE:20230902
DTSTAMP:20260423T094536
CREATED:20230425T140322Z
LAST-MODIFIED:20230524T144155Z
UID:1092-1693180800-1693612799@www.association-arc-electrique.org
SUMMARY:ISH : International Symposium on High Voltage Engineering
DESCRIPTION:Glasgow\, Ecosse \n\n\n\n\nVoir le site
URL:https://www.association-arc-electrique.org/event/ish-international-symposium-on-high-voltage-engineering-2023-28-1er-septembre-glasgow-ecosse/
LOCATION:Missouri
CATEGORIES:Conférences
ATTACH;FMTTYPE=image/png:https://www.association-arc-electrique.org/wp-content/uploads/2023/04/ish2023.png
END:VEVENT
BEGIN:VEVENT
DTSTART;TZID=Europe/Paris:20230904T000000
DTEND;TZID=Europe/Paris:20230908T235959
DTSTAMP:20260423T094536
CREATED:20230425T135249Z
LAST-MODIFIED:20230524T144133Z
UID:1090-1693785600-1694217599@www.association-arc-electrique.org
SUMMARY:FSO : Symposium on Physics of Switching Arc
DESCRIPTION:Brno\, Republique Tcheque\, presentiel \n\n\n\n\nVisiter le site
URL:https://www.association-arc-electrique.org/event/fso-symposium-on-physics-of-switching-arc-2023-septembre-brno-republique-tcheque-presentiel/
LOCATION:Missouri
CATEGORIES:Conférences
ATTACH;FMTTYPE=image/png:https://www.association-arc-electrique.org/wp-content/uploads/2023/04/fso2023.png
END:VEVENT
BEGIN:VEVENT
DTSTART;TZID=Europe/Paris:20230910T000000
DTEND;TZID=Europe/Paris:20230915T235959
DTSTAMP:20260423T094536
CREATED:20230502T133752Z
LAST-MODIFIED:20230524T144110Z
UID:1382-1694304000-1694822399@www.association-arc-electrique.org
SUMMARY:GD : International on Gas Discharges and their Applications
DESCRIPTION:Greifswald\, Germany \n\n\n\n\nVisiter le site
URL:https://www.association-arc-electrique.org/event/international-on-gas-discharges-and-their-applications-2022-28-2-septembre-pomerania-allemagne-presentiel/
LOCATION:Missouri
CATEGORIES:Conférences
ATTACH;FMTTYPE=image/jpeg:https://www.association-arc-electrique.org/wp-content/uploads/2023/04/conferences_100d.jpg
END:VEVENT
END:VCALENDAR