BEGIN:VCALENDAR
VERSION:2.0
PRODID:-//ASSOCIATION ARC ELECTRIQUE - ECPv6.15.20//NONSGML v1.0//EN
CALSCALE:GREGORIAN
METHOD:PUBLISH
X-WR-CALNAME:ASSOCIATION ARC ELECTRIQUE
X-ORIGINAL-URL:https://www.association-arc-electrique.org
X-WR-CALDESC:Évènements pour ASSOCIATION ARC ELECTRIQUE
REFRESH-INTERVAL;VALUE=DURATION:PT1H
X-Robots-Tag:noindex
X-PUBLISHED-TTL:PT1H
BEGIN:VTIMEZONE
TZID:Europe/Paris
BEGIN:DAYLIGHT
TZOFFSETFROM:+0100
TZOFFSETTO:+0200
TZNAME:CEST
DTSTART:20220327T010000
END:DAYLIGHT
BEGIN:STANDARD
TZOFFSETFROM:+0200
TZOFFSETTO:+0100
TZNAME:CET
DTSTART:20221030T010000
END:STANDARD
BEGIN:DAYLIGHT
TZOFFSETFROM:+0100
TZOFFSETTO:+0200
TZNAME:CEST
DTSTART:20230326T010000
END:DAYLIGHT
BEGIN:STANDARD
TZOFFSETFROM:+0200
TZOFFSETTO:+0100
TZNAME:CET
DTSTART:20231029T010000
END:STANDARD
BEGIN:DAYLIGHT
TZOFFSETFROM:+0100
TZOFFSETTO:+0200
TZNAME:CEST
DTSTART:20240331T010000
END:DAYLIGHT
BEGIN:STANDARD
TZOFFSETFROM:+0200
TZOFFSETTO:+0100
TZNAME:CET
DTSTART:20241027T010000
END:STANDARD
END:VTIMEZONE
BEGIN:VEVENT
DTSTART;TZID=Europe/Paris:20230502T000000
DTEND;TZID=Europe/Paris:20230502T235959
DTSTAMP:20260423T163729
CREATED:20230502T141131Z
LAST-MODIFIED:20230509T143848Z
UID:1408-1682985600-1683071999@www.association-arc-electrique.org
SUMMARY:ICEFA : International Conference on Electric Fuses and their Applications
DESCRIPTION:Visiter le site
URL:https://www.association-arc-electrique.org/event/icefa-international-conference-on-electric-fuses-and-their-applications/
LOCATION:Missouri
CATEGORIES:Conférences
ATTACH;FMTTYPE=image/jpeg:https://www.association-arc-electrique.org/wp-content/uploads/2023/04/conferences_100d.jpg
END:VEVENT
BEGIN:VEVENT
DTSTART;TZID=Europe/Paris:20230502T000000
DTEND;TZID=Europe/Paris:20230502T235959
DTSTAMP:20260423T163729
CREATED:20230502T144609Z
LAST-MODIFIED:20230509T143841Z
UID:1436-1682985600-1683071999@www.association-arc-electrique.org
SUMMARY:Workshop Workshop sur les Arcs et Contacts Electriques
DESCRIPTION:Visiter le site
URL:https://www.association-arc-electrique.org/event/workshop-workshop-sur-les-arcs-et-contacts-electriques/
LOCATION:Missouri
CATEGORIES:Conférences
ATTACH;FMTTYPE=image/jpeg:https://www.association-arc-electrique.org/wp-content/uploads/2023/04/conferences_100d.jpg
END:VEVENT
BEGIN:VEVENT
DTSTART;TZID=Europe/Paris:20230521T000000
DTEND;TZID=Europe/Paris:20230525T235959
DTSTAMP:20260423T163729
CREATED:20230502T141802Z
LAST-MODIFIED:20230524T144631Z
UID:1413-1684627200-1685059199@www.association-arc-electrique.org
SUMMARY:ICOPS : International Conference on Plasma Science
DESCRIPTION:Santa fe\, New Mexico \n\n\n\n\nVisiter le site
URL:https://www.association-arc-electrique.org/event/icops-international-conference-on-plasma-science/
LOCATION:Missouri
CATEGORIES:Conférences
ATTACH;FMTTYPE=image/png:https://www.association-arc-electrique.org/wp-content/uploads/2023/05/icops.png
END:VEVENT
END:VCALENDAR