BEGIN:VCALENDAR
VERSION:2.0
PRODID:-//ASSOCIATION ARC ELECTRIQUE - ECPv6.15.20//NONSGML v1.0//EN
CALSCALE:GREGORIAN
METHOD:PUBLISH
X-WR-CALNAME:ASSOCIATION ARC ELECTRIQUE
X-ORIGINAL-URL:https://www.association-arc-electrique.org
X-WR-CALDESC:Évènements pour ASSOCIATION ARC ELECTRIQUE
REFRESH-INTERVAL;VALUE=DURATION:PT1H
X-Robots-Tag:noindex
X-PUBLISHED-TTL:PT1H
BEGIN:VTIMEZONE
TZID:Europe/Paris
BEGIN:DAYLIGHT
TZOFFSETFROM:+0100
TZOFFSETTO:+0200
TZNAME:CEST
DTSTART:20220327T010000
END:DAYLIGHT
BEGIN:STANDARD
TZOFFSETFROM:+0200
TZOFFSETTO:+0100
TZNAME:CET
DTSTART:20221030T010000
END:STANDARD
BEGIN:DAYLIGHT
TZOFFSETFROM:+0100
TZOFFSETTO:+0200
TZNAME:CEST
DTSTART:20230326T010000
END:DAYLIGHT
BEGIN:STANDARD
TZOFFSETFROM:+0200
TZOFFSETTO:+0100
TZNAME:CET
DTSTART:20231029T010000
END:STANDARD
BEGIN:DAYLIGHT
TZOFFSETFROM:+0100
TZOFFSETTO:+0200
TZNAME:CEST
DTSTART:20240331T010000
END:DAYLIGHT
BEGIN:STANDARD
TZOFFSETFROM:+0200
TZOFFSETTO:+0100
TZNAME:CET
DTSTART:20241027T010000
END:STANDARD
END:VTIMEZONE
BEGIN:VEVENT
DTSTART;TZID=Europe/Paris:20230426T000000
DTEND;TZID=Europe/Paris:20230428T235959
DTSTAMP:20260423T180330
CREATED:20230502T144405Z
LAST-MODIFIED:20230502T144443Z
UID:1433-1682467200-1682726399@www.association-arc-electrique.org
SUMMARY:Plasma Tech Plasma Processing and Technology International Conference
DESCRIPTION:Lisbon\, Portugal \n\n\n\n\nVisiter le site
URL:https://www.association-arc-electrique.org/event/plasma-tech-plasma-processing-and-technology-international-conference/
LOCATION:Missouri
CATEGORIES:Conférences
ATTACH;FMTTYPE=image/png:https://www.association-arc-electrique.org/wp-content/uploads/2023/05/plasma23.png
END:VEVENT
END:VCALENDAR